Package: NoRCE Version: 1.19.0 Command: /Library/Frameworks/R.framework/Resources/bin/R CMD INSTALL NoRCE StartedAt: 2025-02-20 15:22:31 -0500 (Thu, 20 Feb 2025) EndedAt: 2025-02-20 15:23:23 -0500 (Thu, 20 Feb 2025) EllapsedTime: 51.3 seconds RetCode: 0 Status: OK