Package: NoRCE Version: 1.19.0 Command: /Library/Frameworks/R.framework/Resources/bin/R CMD check --install=check:NoRCE.install-out.txt --library=/Library/Frameworks/R.framework/Resources/library --no-vignettes --timings NoRCE_1.19.0.tar.gz StartedAt: 2025-02-20 22:02:58 -0500 (Thu, 20 Feb 2025) EndedAt: 2025-02-20 22:08:08 -0500 (Thu, 20 Feb 2025) EllapsedTime: 309.7 seconds RetCode: 0 Status: OK CheckDir: NoRCE.Rcheck Warnings: 0