Package: NewWave Version: 1.17.0 Command: chmod a+r NewWave -R && E:\biocbuild\bbs-3.21-bioc\R\bin\R.exe CMD build --keep-empty-dirs --no-resave-data NewWave StartedAt: 2025-02-20 20:24:58 -0500 (Thu, 20 Feb 2025) EndedAt: 2025-02-20 20:28:29 -0500 (Thu, 20 Feb 2025) EllapsedTime: 211.2 seconds RetCode: 0 Status: OK PackageFile: NewWave_1.17.0.tar.gz PackageFileSize: 49.93 KiB