Package: NewWave Version: 1.17.0 Command: /home/biocbuild/bbs-3.21-bioc/R/bin/R CMD check --install=check:NewWave.install-out.txt --library=/home/biocbuild/bbs-3.21-bioc/R/site-library --timings NewWave_1.17.0.tar.gz StartedAt: 2025-02-21 00:11:44 -0500 (Fri, 21 Feb 2025) EndedAt: 2025-02-21 00:16:47 -0500 (Fri, 21 Feb 2025) EllapsedTime: 303.4 seconds RetCode: 0 Status: OK CheckDir: NewWave.Rcheck Warnings: 0