Package: NewWave Version: 1.17.0 Command: /Library/Frameworks/R.framework/Resources/bin/R CMD check --install=check:NewWave.install-out.txt --library=/Library/Frameworks/R.framework/Resources/library --no-vignettes --timings NewWave_1.17.0.tar.gz StartedAt: 2025-02-20 22:02:07 -0500 (Thu, 20 Feb 2025) EndedAt: 2025-02-20 22:05:56 -0500 (Thu, 20 Feb 2025) EllapsedTime: 228.5 seconds RetCode: 0 Status: OK CheckDir: NewWave.Rcheck Warnings: 0