Package: NewWave Version: 1.17.0 Command: /Library/Frameworks/R.framework/Resources/bin/R CMD build --keep-empty-dirs --no-resave-data NewWave StartedAt: 2025-02-21 17:36:36 -0500 (Fri, 21 Feb 2025) EndedAt: 2025-02-21 17:39:17 -0500 (Fri, 21 Feb 2025) EllapsedTime: 161.5 seconds RetCode: 0 Status: OK PackageFile: NewWave_1.17.0.tar.gz PackageFileSize: 96.41 KiB