Package: NewWave Version: 1.17.0 Command: rm -rf NewWave.buildbin-libdir && mkdir NewWave.buildbin-libdir && /Users/biocbuild/BBS/utils/build-universal.sh NewWave_1.17.0.tar.gz /Library/Frameworks/R.framework/Resources/bin/R NewWave.buildbin-libdir StartedAt: 2025-02-21 00:43:09 -0500 (Fri, 21 Feb 2025) EndedAt: 2025-02-21 00:43:48 -0500 (Fri, 21 Feb 2025) EllapsedTime: 39.2 seconds RetCode: 0 Status: OK PackageFile: NewWave_1.17.0.tgz PackageFileSize: 426 KiB