Package: NewWave Version: 1.17.0 Command: rm -rf NewWave.buildbin-libdir && mkdir NewWave.buildbin-libdir && /Users/biocbuild/BBS/utils/build-universal.sh NewWave_1.17.0.tar.gz /Library/Frameworks/R.framework/Resources/bin/R NewWave.buildbin-libdir StartedAt: 2025-02-20 22:28:13 -0500 (Thu, 20 Feb 2025) EndedAt: 2025-02-20 22:28:25 -0500 (Thu, 20 Feb 2025) EllapsedTime: 12.3 seconds RetCode: 0 Status: OK PackageFile: NewWave_1.17.0.tgz PackageFileSize: 428.6 KiB