Package: NeuCA Version: 1.13.0 Command: /Library/Frameworks/R.framework/Resources/bin/R CMD INSTALL NeuCA StartedAt: 2025-02-18 15:23:56 -0500 (Tue, 18 Feb 2025) EndedAt: 2025-02-18 15:24:30 -0500 (Tue, 18 Feb 2025) EllapsedTime: 34.2 seconds RetCode: 0 Status: OK