Package: NeuCA Version: 1.13.0 Command: /Library/Frameworks/R.framework/Resources/bin/R CMD build --keep-empty-dirs --no-resave-data NeuCA StartedAt: 2025-02-18 17:08:26 -0500 (Tue, 18 Feb 2025) EndedAt: 2025-02-18 17:08:55 -0500 (Tue, 18 Feb 2025) EllapsedTime: 28.3 seconds RetCode: 1 Status: ERROR PackageFile: None PackageFileSize: NA