Package: NetSAM Version: 1.47.0 Command: rm -rf NetSAM.buildbin-libdir && mkdir NetSAM.buildbin-libdir && E:\biocbuild\bbs-3.21-bioc\R\bin\R.exe CMD INSTALL --build --library=NetSAM.buildbin-libdir NetSAM_1.47.0.tar.gz StartedAt: 2025-02-21 08:40:00 -0500 (Fri, 21 Feb 2025) EndedAt: 2025-02-21 08:40:39 -0500 (Fri, 21 Feb 2025) EllapsedTime: 38.8 seconds RetCode: 0 Status: OK PackageFile: NetSAM_1.47.0.zip PackageFileSize: 1.213 MiB