Package: NetPathMiner Version: 1.43.1 Command: rm -rf NetPathMiner.buildbin-libdir && mkdir NetPathMiner.buildbin-libdir && /Users/biocbuild/BBS/utils/build-universal.sh NetPathMiner_1.43.1.tar.gz /Library/Frameworks/R.framework/Resources/bin/R NetPathMiner.buildbin-libdir StartedAt: 2025-02-19 00:37:09 -0500 (Wed, 19 Feb 2025) EndedAt: 2025-02-19 00:37:36 -0500 (Wed, 19 Feb 2025) EllapsedTime: 26.5 seconds RetCode: 0 Status: OK PackageFile: NetPathMiner_1.43.1.tgz PackageFileSize: 2.624 MiB