Package: NetActivity Version: 1.9.0 Command: E:\biocbuild\bbs-3.21-bioc\R\bin\R.exe CMD INSTALL NetActivity StartedAt: 2025-02-20 16:10:20 -0500 (Thu, 20 Feb 2025) EndedAt: 2025-02-20 16:10:52 -0500 (Thu, 20 Feb 2025) EllapsedTime: 31.4 seconds RetCode: 0 Status: OK