Package: NetActivity Version: 1.9.0 Command: rm -rf NetActivity.buildbin-libdir && mkdir NetActivity.buildbin-libdir && E:\biocbuild\bbs-3.21-bioc\R\bin\R.exe CMD INSTALL --build --library=NetActivity.buildbin-libdir NetActivity_1.9.0.tar.gz StartedAt: 2025-02-21 08:39:52 -0500 (Fri, 21 Feb 2025) EndedAt: 2025-02-21 08:40:24 -0500 (Fri, 21 Feb 2025) EllapsedTime: 32.2 seconds RetCode: 0 Status: OK PackageFile: NetActivity_1.9.0.zip PackageFileSize: 359.3 KiB