Package: NetActivity Version: 1.9.0 Command: /home/biocbuild/bbs-3.21-bioc/R/bin/R CMD check --install=check:NetActivity.install-out.txt --library=/home/biocbuild/bbs-3.21-bioc/R/site-library --timings NetActivity_1.9.0.tar.gz StartedAt: 2025-02-20 00:38:54 -0500 (Thu, 20 Feb 2025) EndedAt: 2025-02-20 00:42:58 -0500 (Thu, 20 Feb 2025) EllapsedTime: 244.2 seconds RetCode: 0 Status: OK CheckDir: NetActivity.Rcheck Warnings: 0