Package: NetActivity Version: 1.9.0 Command: /Library/Frameworks/R.framework/Resources/bin/R CMD INSTALL NetActivity StartedAt: 2025-02-19 15:08:21 -0500 (Wed, 19 Feb 2025) EndedAt: 2025-02-19 15:08:31 -0500 (Wed, 19 Feb 2025) EllapsedTime: 10.0 seconds RetCode: 0 Status: OK