Package: NetActivity Version: 1.9.0 Command: /Library/Frameworks/R.framework/Resources/bin/R CMD check --install=check:NetActivity.install-out.txt --library=/Library/Frameworks/R.framework/Resources/library --no-vignettes --timings NetActivity_1.9.0.tar.gz StartedAt: 2025-02-19 20:32:05 -0500 (Wed, 19 Feb 2025) EndedAt: 2025-02-19 20:33:30 -0500 (Wed, 19 Feb 2025) EllapsedTime: 85.1 seconds RetCode: 0 Status: OK CheckDir: NetActivity.Rcheck Warnings: 0