Package: Nebulosa Version: 1.17.0 Command: E:\biocbuild\bbs-3.21-bioc\R\bin\R.exe CMD INSTALL Nebulosa StartedAt: 2025-02-20 16:12:38 -0500 (Thu, 20 Feb 2025) EndedAt: 2025-02-20 16:13:11 -0500 (Thu, 20 Feb 2025) EllapsedTime: 32.7 seconds RetCode: 0 Status: OK