Package: Nebulosa Version: 1.17.0 Command: chmod a+r Nebulosa -R && E:\biocbuild\bbs-3.21-bioc\R\bin\R.exe CMD build --keep-empty-dirs --no-resave-data Nebulosa StartedAt: 2025-02-20 20:23:50 -0500 (Thu, 20 Feb 2025) EndedAt: 2025-02-20 20:28:05 -0500 (Thu, 20 Feb 2025) EllapsedTime: 255.8 seconds RetCode: 0 Status: OK PackageFile: Nebulosa_1.17.0.tar.gz PackageFileSize: 2.345 MiB