Package: Nebulosa Version: 1.17.0 Command: /home/biocbuild/bbs-3.21-bioc/R/bin/R CMD build --keep-empty-dirs --no-resave-data Nebulosa StartedAt: 2025-02-20 18:26:45 -0500 (Thu, 20 Feb 2025) EndedAt: 2025-02-20 18:29:54 -0500 (Thu, 20 Feb 2025) EllapsedTime: 189.2 seconds RetCode: 0 Status: OK PackageFile: Nebulosa_1.17.0.tar.gz PackageFileSize: 3.28 MiB