Package: NanoStringNCTools Version: 1.15.0 Command: rm -rf NanoStringNCTools.buildbin-libdir && mkdir NanoStringNCTools.buildbin-libdir && E:\biocbuild\bbs-3.21-bioc\R\bin\R.exe CMD INSTALL --build --library=NanoStringNCTools.buildbin-libdir NanoStringNCTools_1.15.0.tar.gz StartedAt: 2025-02-21 08:39:05 -0500 (Fri, 21 Feb 2025) EndedAt: 2025-02-21 08:42:02 -0500 (Fri, 21 Feb 2025) EllapsedTime: 176.1 seconds RetCode: 0 Status: OK PackageFile: NanoStringNCTools_1.15.0.zip PackageFileSize: 894.4 KiB