Package: NanoStringNCTools Version: 1.16.2 Command: /home/biocbuild/bbs-3.21-bioc/R/bin/R CMD INSTALL NanoStringNCTools StartedAt: 2025-10-15 15:14:57 -0400 (Wed, 15 Oct 2025) EndedAt: 2025-10-15 15:15:14 -0400 (Wed, 15 Oct 2025) EllapsedTime: 17.4 seconds RetCode: 0 Status: OK