Package: NanoStringNCTools Version: 1.16.2 Command: /home/biocbuild/bbs-3.21-bioc/R/bin/R CMD build --keep-empty-dirs --no-resave-data NanoStringNCTools StartedAt: 2025-10-15 18:48:53 -0400 (Wed, 15 Oct 2025) EndedAt: 2025-10-15 18:49:24 -0400 (Wed, 15 Oct 2025) EllapsedTime: 31.0 seconds RetCode: 0 Status: OK PackageFile: NanoStringNCTools_1.16.2.tar.gz PackageFileSize: 500.3 KiB