Package: NanoStringNCTools Version: 1.15.0 Command: /Library/Frameworks/R.framework/Resources/bin/R CMD check --install=check:NanoStringNCTools.install-out.txt --library=/Library/Frameworks/R.framework/Resources/library --no-vignettes --timings NanoStringNCTools_1.15.0.tar.gz StartedAt: 2025-02-19 20:30:45 -0500 (Wed, 19 Feb 2025) EndedAt: 2025-02-19 20:31:28 -0500 (Wed, 19 Feb 2025) EllapsedTime: 43.5 seconds RetCode: 0 Status: OK CheckDir: NanoStringNCTools.Rcheck Warnings: 0