Package: NanoStringNCTools Version: 1.15.0 Command: rm -rf NanoStringNCTools.buildbin-libdir && mkdir NanoStringNCTools.buildbin-libdir && /Users/biocbuild/BBS/utils/build-universal.sh NanoStringNCTools_1.15.0.tar.gz /Library/Frameworks/R.framework/Resources/bin/R NanoStringNCTools.buildbin-libdir StartedAt: 2025-02-19 22:30:59 -0500 (Wed, 19 Feb 2025) EndedAt: 2025-02-19 22:31:06 -0500 (Wed, 19 Feb 2025) EllapsedTime: 7.1 seconds RetCode: 0 Status: OK PackageFile: NanoStringNCTools_1.15.0.tgz PackageFileSize: 945.5 KiB