Package: NanoStringNCTools Version: 1.16.2 Command: /Library/Frameworks/R.framework/Resources/bin/R CMD INSTALL NanoStringNCTools StartedAt: 2025-10-13 15:42:34 -0400 (Mon, 13 Oct 2025) EndedAt: 2025-10-13 15:42:54 -0400 (Mon, 13 Oct 2025) EllapsedTime: 20.1 seconds RetCode: 0 Status: OK