Package: NanoStringNCTools Version: 1.16.2 Command: /Library/Frameworks/R.framework/Resources/bin/R CMD build --keep-empty-dirs --no-resave-data NanoStringNCTools StartedAt: 2025-10-14 05:31:44 -0400 (Tue, 14 Oct 2025) EndedAt: 2025-10-14 05:32:24 -0400 (Tue, 14 Oct 2025) EllapsedTime: 40.3 seconds RetCode: 0 Status: OK PackageFile: NanoStringNCTools_1.16.2.tar.gz PackageFileSize: 505.9 KiB