Package: NanoStringDiff Version: 1.38.0 Command: /Library/Frameworks/R.framework/Resources/bin/R CMD INSTALL NanoStringDiff StartedAt: 2025-09-29 15:24:03 -0400 (Mon, 29 Sep 2025) EndedAt: 2025-09-29 15:24:40 -0400 (Mon, 29 Sep 2025) EllapsedTime: 36.6 seconds RetCode: 0 Status: OK