Package: NanoStringDiff Version: 1.38.0 Command: rm -rf NanoStringDiff.buildbin-libdir && mkdir NanoStringDiff.buildbin-libdir && /Users/biocbuild/BBS/utils/build-universal.sh NanoStringDiff_1.38.0.tar.gz /Library/Frameworks/R.framework/Resources/bin/R NanoStringDiff.buildbin-libdir StartedAt: 2025-10-03 13:57:33 -0400 (Fri, 03 Oct 2025) EndedAt: 2025-10-03 13:58:08 -0400 (Fri, 03 Oct 2025) EllapsedTime: 35.2 seconds RetCode: 0 Status: OK PackageFile: NanoStringDiff_1.38.0.tgz PackageFileSize: 470 KiB