Package: NanoStringDiff Version: 1.37.0 Command: /Library/Frameworks/R.framework/Resources/bin/R CMD INSTALL NanoStringDiff StartedAt: 2025-02-19 15:02:23 -0500 (Wed, 19 Feb 2025) EndedAt: 2025-02-19 15:02:30 -0500 (Wed, 19 Feb 2025) EllapsedTime: 7.5 seconds RetCode: 0 Status: OK