Package: NanoStringDiff Version: 1.37.0 Command: /Library/Frameworks/R.framework/Resources/bin/R CMD check --install=check:NanoStringDiff.install-out.txt --library=/Library/Frameworks/R.framework/Resources/library --no-vignettes --timings NanoStringDiff_1.37.0.tar.gz StartedAt: 2025-02-19 20:30:15 -0500 (Wed, 19 Feb 2025) EndedAt: 2025-02-19 20:31:10 -0500 (Wed, 19 Feb 2025) EllapsedTime: 54.9 seconds RetCode: 0 Status: WARNINGS CheckDir: NanoStringDiff.Rcheck Warnings: 1