Package: NanoMethViz Version: 3.3.3 Command: chmod a+r NanoMethViz -R && E:\biocbuild\bbs-3.21-bioc\R\bin\R.exe CMD build --keep-empty-dirs --no-resave-data NanoMethViz StartedAt: 2025-02-20 20:22:05 -0500 (Thu, 20 Feb 2025) EndedAt: 2025-02-20 20:27:52 -0500 (Thu, 20 Feb 2025) EllapsedTime: 347.1 seconds RetCode: 0 Status: OK PackageFile: NanoMethViz_3.3.3.tar.gz PackageFileSize: 7.035 MiB