Package: NTW Version: 1.57.0 Command: /Library/Frameworks/R.framework/Resources/bin/R CMD check --install=check:NTW.install-out.txt --library=/Library/Frameworks/R.framework/Resources/library --no-vignettes --timings NTW_1.57.0.tar.gz StartedAt: 2025-02-19 20:34:19 -0500 (Wed, 19 Feb 2025) EndedAt: 2025-02-19 20:34:32 -0500 (Wed, 19 Feb 2025) EllapsedTime: 13.2 seconds RetCode: 0 Status: WARNINGS CheckDir: NTW.Rcheck Warnings: 1