Package: NPARC Version: 1.19.0 Command: E:\biocbuild\bbs-3.21-bioc\R\bin\R.exe CMD check --no-multiarch --install=check:NPARC.install-out.txt --library=E:\biocbuild\bbs-3.21-bioc\R\library --no-vignettes --timings NPARC_1.19.0.tar.gz StartedAt: 2025-02-21 03:58:28 -0500 (Fri, 21 Feb 2025) EndedAt: 2025-02-21 03:59:35 -0500 (Fri, 21 Feb 2025) EllapsedTime: 66.9 seconds RetCode: 0 Status: OK CheckDir: NPARC.Rcheck Warnings: 0