Package: NPARC Version: 1.19.0 Command: chmod a+r NPARC -R && E:\biocbuild\bbs-3.21-bioc\R\bin\R.exe CMD build --keep-empty-dirs --no-resave-data NPARC StartedAt: 2025-02-20 20:26:58 -0500 (Thu, 20 Feb 2025) EndedAt: 2025-02-20 20:31:29 -0500 (Thu, 20 Feb 2025) EllapsedTime: 271.4 seconds RetCode: 0 Status: OK PackageFile: NPARC_1.19.0.tar.gz PackageFileSize: 1.933 MiB