Package: NPARC Version: 1.19.0 Command: rm -rf NPARC.buildbin-libdir && mkdir NPARC.buildbin-libdir && E:\biocbuild\bbs-3.21-bioc\R\bin\R.exe CMD INSTALL --build --library=NPARC.buildbin-libdir NPARC_1.19.0.tar.gz StartedAt: 2025-02-21 08:40:58 -0500 (Fri, 21 Feb 2025) EndedAt: 2025-02-21 08:41:07 -0500 (Fri, 21 Feb 2025) EllapsedTime: 9.1 seconds RetCode: 0 Status: OK PackageFile: NPARC_1.19.0.zip PackageFileSize: 2.13 MiB