Package: NPARC Version: 1.19.0 Command: rm -rf NPARC.buildbin-libdir && mkdir NPARC.buildbin-libdir && /Users/biocbuild/BBS/utils/build-universal.sh NPARC_1.19.0.tar.gz /Library/Frameworks/R.framework/Resources/bin/R NPARC.buildbin-libdir StartedAt: 2025-02-21 00:43:25 -0500 (Fri, 21 Feb 2025) EndedAt: 2025-02-21 00:43:34 -0500 (Fri, 21 Feb 2025) EllapsedTime: 9.1 seconds RetCode: 0 Status: OK PackageFile: NPARC_1.19.0.tgz PackageFileSize: 2.494 MiB