Package: NPARC Version: 1.19.0 Command: /home/biocbuild/R/R/bin/R CMD build --keep-empty-dirs --no-resave-data NPARC StartedAt: 2025-01-29 00:54:35 -0000 (Wed, 29 Jan 2025) EndedAt: 2025-01-29 01:01:22 -0000 (Wed, 29 Jan 2025) EllapsedTime: 406.6 seconds RetCode: 0 Status: OK PackageFile: NPARC_1.19.0.tar.gz PackageFileSize: 2.013 MiB