Package: NPARC Version: 1.19.0 Command: /Library/Frameworks/R.framework/Resources/bin/R CMD INSTALL NPARC StartedAt: 2025-02-21 15:07:27 -0500 (Fri, 21 Feb 2025) EndedAt: 2025-02-21 15:07:29 -0500 (Fri, 21 Feb 2025) EllapsedTime: 2.2 seconds RetCode: 0 Status: OK