Package: NPARC Version: 1.19.0 Command: /Library/Frameworks/R.framework/Resources/bin/R CMD build --keep-empty-dirs --no-resave-data NPARC StartedAt: 2025-02-20 17:08:17 -0500 (Thu, 20 Feb 2025) EndedAt: 2025-02-20 17:09:34 -0500 (Thu, 20 Feb 2025) EllapsedTime: 76.9 seconds RetCode: 0 Status: OK PackageFile: NPARC_1.19.0.tar.gz PackageFileSize: 2.299 MiB