Package: NOISeq Version: 2.51.0 Command: chmod a+r NOISeq -R && E:\biocbuild\bbs-3.21-bioc\R\bin\R.exe CMD build --keep-empty-dirs --no-resave-data NOISeq StartedAt: 2025-02-21 21:03:26 -0500 (Fri, 21 Feb 2025) EndedAt: 2025-02-21 21:05:01 -0500 (Fri, 21 Feb 2025) EllapsedTime: 95.2 seconds RetCode: 0 Status: OK PackageFile: NOISeq_2.51.0.tar.gz PackageFileSize: 1.896 MiB