Package: NOISeq Version: 2.51.0 Command: /home/biocbuild/bbs-3.21-bioc/R/bin/R CMD build --keep-empty-dirs --no-resave-data NOISeq StartedAt: 2025-02-20 18:29:46 -0500 (Thu, 20 Feb 2025) EndedAt: 2025-02-20 18:31:14 -0500 (Thu, 20 Feb 2025) EllapsedTime: 88.2 seconds RetCode: 0 Status: OK PackageFile: NOISeq_2.51.0.tar.gz PackageFileSize: 2.058 MiB