Package: NOISeq Version: 2.51.0 Command: /Library/Frameworks/R.framework/Resources/bin/R CMD INSTALL NOISeq StartedAt: 2025-02-21 15:05:08 -0500 (Fri, 21 Feb 2025) EndedAt: 2025-02-21 15:05:26 -0500 (Fri, 21 Feb 2025) EllapsedTime: 17.9 seconds RetCode: 0 Status: OK