Package: NOISeq Version: 2.51.0 Command: rm -rf NOISeq.buildbin-libdir && mkdir NOISeq.buildbin-libdir && /Users/biocbuild/BBS/utils/build-universal.sh NOISeq_2.51.0.tar.gz /Library/Frameworks/R.framework/Resources/bin/R NOISeq.buildbin-libdir StartedAt: 2025-02-22 00:44:15 -0500 (Sat, 22 Feb 2025) EndedAt: 2025-02-22 00:44:32 -0500 (Sat, 22 Feb 2025) EllapsedTime: 17.3 seconds RetCode: 0 Status: OK PackageFile: NOISeq_2.51.0.tgz PackageFileSize: 2.426 MiB