Package: NOISeq Version: 2.51.0 Command: /home/biocbuild/R/R/bin/R CMD check --install=check:NOISeq.install-out.txt --library=/home/biocbuild/R/R/site-library --no-vignettes --timings NOISeq_2.51.0.tar.gz StartedAt: 2025-01-28 13:20:15 -0000 (Tue, 28 Jan 2025) EndedAt: 2025-01-28 13:22:59 -0000 (Tue, 28 Jan 2025) EllapsedTime: 163.4 seconds RetCode: 0 Status: OK CheckDir: NOISeq.Rcheck Warnings: 0