Package: NOISeq Version: 2.51.0 Command: /Library/Frameworks/R.framework/Resources/bin/R CMD INSTALL NOISeq StartedAt: 2025-02-20 15:01:25 -0500 (Thu, 20 Feb 2025) EndedAt: 2025-02-20 15:01:33 -0500 (Thu, 20 Feb 2025) EllapsedTime: 7.9 seconds RetCode: 0 Status: OK