Package: NCIgraph Version: 1.55.0 Command: /home/biocbuild/R/R/bin/R CMD build --keep-empty-dirs --no-resave-data NCIgraph StartedAt: 2025-01-29 00:49:18 -0000 (Wed, 29 Jan 2025) EndedAt: 2025-01-29 00:49:37 -0000 (Wed, 29 Jan 2025) EllapsedTime: 19.0 seconds RetCode: 0 Status: OK PackageFile: NCIgraph_1.55.0.tar.gz PackageFileSize: 207.6 KiB