Package: NADfinder Version: 1.31.1 Command: rm -rf NADfinder.buildbin-libdir && mkdir NADfinder.buildbin-libdir && E:\biocbuild\bbs-3.21-bioc\R\bin\R.exe CMD INSTALL --build --library=NADfinder.buildbin-libdir NADfinder_1.31.1.tar.gz StartedAt: 2025-02-21 08:39:01 -0500 (Fri, 21 Feb 2025) EndedAt: 2025-02-21 08:40:30 -0500 (Fri, 21 Feb 2025) EllapsedTime: 88.7 seconds RetCode: 0 Status: OK PackageFile: NADfinder_1.31.1.zip PackageFileSize: 6.169 MiB