Package: NADfinder Version: 1.31.1 Command: /Library/Frameworks/R.framework/Resources/bin/R CMD INSTALL NADfinder StartedAt: 2025-02-20 15:38:26 -0500 (Thu, 20 Feb 2025) EndedAt: 2025-02-20 15:39:58 -0500 (Thu, 20 Feb 2025) EllapsedTime: 92.6 seconds RetCode: 0 Status: OK