Package: NADfinder Version: 1.31.1 Command: /Library/Frameworks/R.framework/Resources/bin/R CMD check --install=check:NADfinder.install-out.txt --library=/Library/Frameworks/R.framework/Resources/library --no-vignettes --timings NADfinder_1.31.1.tar.gz StartedAt: 2025-02-20 21:58:36 -0500 (Thu, 20 Feb 2025) EndedAt: 2025-02-20 22:08:32 -0500 (Thu, 20 Feb 2025) EllapsedTime: 595.8 seconds RetCode: 0 Status: OK CheckDir: NADfinder.Rcheck Warnings: 0